BEGIN:VCALENDAR
VERSION:2.0
PRODID:-//The Urban Farm - ECPv6.15.20//NONSGML v1.0//EN
CALSCALE:GREGORIAN
METHOD:PUBLISH
X-WR-CALNAME:The Urban Farm
X-ORIGINAL-URL:https://www.urbanfarm.org
X-WR-CALDESC:Events for The Urban Farm
REFRESH-INTERVAL;VALUE=DURATION:PT1H
X-Robots-Tag:noindex
X-PUBLISHED-TTL:PT1H
BEGIN:VTIMEZONE
TZID:America/Phoenix
BEGIN:STANDARD
TZOFFSETFROM:-0700
TZOFFSETTO:-0700
TZNAME:MST
DTSTART:20200101T000000
END:STANDARD
END:VTIMEZONE
BEGIN:VEVENT
DTSTART;TZID=America/Phoenix:20210427T170000
DTEND;TZID=America/Phoenix:20210427T180000
DTSTAMP:20260422T143817
CREATED:20210217T134857Z
LAST-MODIFIED:20210217T180554Z
UID:12022-1619542800-1619546400@www.urbanfarm.org
SUMMARY:Monthly Garden Chat "Partnering With Nature"
DESCRIPTION:“Partnering With Nature“\nwith Farmer Greg and Special Guest Jessica Walliser of Savvy Gardening\nClick HERE to register for Monthly Garden Chat notifications \nJoin us for a monthly Zoom class on a variety of Gardening Topics. \nGreg and a special guest will host one of our monthly Garden Chats focusing on new topic each month.  Join us and let us try to answer your gardening questions. \n  \nClick HERE for more details \nThis monthly class will take place on the last Tuesday of the month\, from 5-6pm AZ time.
URL:https://www.urbanfarm.org/event/garden-chat-2021-04/
LOCATION:Zoom\, A link to log in to the event will be sent in separate email.
CATEGORIES:Monthly Chats
ATTACH;FMTTYPE=image/jpeg:https://www.urbanfarm.org/wp-content/uploads/2021/02/Garden-chat-veg.jpg
END:VEVENT
END:VCALENDAR