BEGIN:VCALENDAR
VERSION:2.0
PRODID:-//The Urban Farm - ECPv6.15.20//NONSGML v1.0//EN
CALSCALE:GREGORIAN
METHOD:PUBLISH
X-ORIGINAL-URL:https://www.urbanfarm.org
X-WR-CALDESC:Events for The Urban Farm
REFRESH-INTERVAL;VALUE=DURATION:PT1H
X-Robots-Tag:noindex
X-PUBLISHED-TTL:PT1H
BEGIN:VTIMEZONE
TZID:America/Phoenix
BEGIN:STANDARD
TZOFFSETFROM:-0700
TZOFFSETTO:-0700
TZNAME:MST
DTSTART:20200101T000000
END:STANDARD
END:VTIMEZONE
BEGIN:VEVENT
DTSTART;TZID=America/Phoenix:20210328T080000
DTEND;TZID=America/Phoenix:20210328T090000
DTSTAMP:20260423T180502
CREATED:20210109T030230Z
LAST-MODIFIED:20210217T181500Z
UID:11845-1616918400-1616922000@www.urbanfarm.org
SUMMARY:Rosie on the House Radio Hour "Getting Your Garden Watered"
DESCRIPTION:Get your gardening and urban farming questions answered!\n \nIn the Rosie on the House radio show\, there is a dedicated hour for questions and answers about growing food in the local desert. On the fourth Saturday of each month\, Farmer Greg will talk about all aspects of gardening and urban farming in the Arizona climates… \nGardening Tips * Chickens * Composting \nSmart Watering Tips * Fruit Trees * Seed Saving \nSonoran Desert Weather * Permaculture Tidbits \nRosie on the House is a father and son weekly radio show on home-improvement advice and is found on several key Arizona radio stations. It is a trusted source of home-improvement advice and know-how. Rosie and Romey consider that an honor and a responsibility\, a feeling that Greg shares. \n  \nBroadcast every fourth Saturday on:\n Phoenix 8-11 am   Tucson 10-11am\n Flagstaff 8-11am Green Valley 8-11am \nEpisode archives for the full Rosie on the House\nshow can be found HERE
URL:https://www.urbanfarm.org/event/rosie-2021-03-28/
LOCATION:On Local Radio Stations\, Rosie on the House is hosted on various local radio stations.
ATTACH;FMTTYPE=image/jpeg:https://www.urbanfarm.org/wp-content/uploads/2018/03/Rosie-OTH-Logo-fi-1-e1610136945151.jpg
END:VEVENT
BEGIN:VEVENT
DTSTART;TZID=America/Phoenix:20210330T170000
DTEND;TZID=America/Phoenix:20210330T180000
DTSTAMP:20260423T180502
CREATED:20210216T173718Z
LAST-MODIFIED:20210217T134407Z
UID:12008-1617123600-1617127200@www.urbanfarm.org
SUMMARY:NEW - Monthly Garden Chat "Designing Your Edible Landscape"
DESCRIPTION:“Designing Your Edible Landscape“\nwith Farmer Greg and Special Guest Kristin Parsons of Revive Design\nClick HERE to register for Monthly Garden Chat notifications \nJoin us for a monthly Zoom class on a variety of Gardening Topics. \nGreg and a special guest will host one of our monthly Garden Chats focusing on new topic each month.  Join us and let us try to answer your gardening questions. \n  \nClick HERE for more details \nThis monthly class will take place on the last Tuesday of the month\, from 5-6pm AZ time.
URL:https://www.urbanfarm.org/event/garden-chat-2021-03/
LOCATION:Zoom\, A link to log in to the event will be sent in separate email.
CATEGORIES:Monthly Chats
ATTACH;FMTTYPE=image/jpeg:https://www.urbanfarm.org/wp-content/uploads/2021/02/Garden-chat-veg.jpg
END:VEVENT
END:VCALENDAR