BEGIN:VCALENDAR
VERSION:2.0
PRODID:-//The Urban Farm - ECPv6.15.20//NONSGML v1.0//EN
CALSCALE:GREGORIAN
METHOD:PUBLISH
X-WR-CALNAME:The Urban Farm
X-ORIGINAL-URL:https://www.urbanfarm.org
X-WR-CALDESC:Events for The Urban Farm
REFRESH-INTERVAL;VALUE=DURATION:PT1H
X-Robots-Tag:noindex
X-PUBLISHED-TTL:PT1H
BEGIN:VTIMEZONE
TZID:America/Phoenix
BEGIN:STANDARD
TZOFFSETFROM:-0700
TZOFFSETTO:-0700
TZNAME:MST
DTSTART:20230101T000000
END:STANDARD
END:VTIMEZONE
BEGIN:VEVENT
DTSTART;TZID=America/Phoenix:20240716T160000
DTEND;TZID=America/Phoenix:20240716T170000
DTSTAMP:20260421T015345
CREATED:20240507T121236Z
LAST-MODIFIED:20240507T121236Z
UID:21100-1721145600-1721149200@www.urbanfarm.org
SUMMARY:Seed Chat: Nurturing Your Seed Starts
DESCRIPTION:New topics each* month\n4pm Pacific / 5pm Mountain / 6pm Central / 7pm Eastern\n4pm ARIZONA\nNurturing Your Seed Starts\nIn this Seed Chat\, Bill McDorman and Greg Peterson provide the essential elements of nurturing your seed starts for a thriving garden. From selecting the right seeds to providing optimal growing conditions\, the two will explore the key steps to ensure your plants get the best start. Learn about seed starting mediums\, proper watering techniques\, and the importance of adequate light. Join us as we share valuable insights and tips to empower you in cultivating robust and healthy plants from the very beginning. Come Chat with Us!\n \nRegister HERE anytime for next class \nIn this LIVE online Q&A Session… \n\nBill McDorman will be discussing key issues relating to growing your own food and saving the seeds yourselves.\nHe will be answering your seed questions live!\nLearn how to save and store seeds so that you can create a thriving\, resilient garden tailored to YOUR yard\nAsk Bill your most pressing seed questions and get the inspiration and know-how to be a seed saving superhero\n\n(*No class in January) \nRegister HERE anytime for next class \nFaculty: Bill McDorman was Executive Director and co-founder of the Rocky Mountain Seed Alliance (RockyMountainSeeds.org)\, SeedSave.org and Seed School. Bill has been teaching seed saving for decades and is dedicated to educating communities about the value of seed saving and local seeds as the foundation of local food.
URL:https://www.urbanfarm.org/event/seed-chat-nurturing-your-seed-starts/
LOCATION:Zoom Chat Room\, The zoom link is the same every month. We will send link in an email.
CATEGORIES:Monthly Chats
ATTACH;FMTTYPE=image/png:https://www.urbanfarm.org/wp-content/uploads/2019/02/Bill-Greg-Seed-Chat-social-1.png
END:VEVENT
END:VCALENDAR